BEGIN:VCALENDAR
VERSION:2.0
PRODID:-//Play Campus Commons - ECPv6.15.20//NONSGML v1.0//EN
CALSCALE:GREGORIAN
METHOD:PUBLISH
X-ORIGINAL-URL:https://playcampuscommons.com
X-WR-CALDESC:Events for Play Campus Commons
REFRESH-INTERVAL;VALUE=DURATION:PT1H
X-Robots-Tag:noindex
X-PUBLISHED-TTL:PT1H
BEGIN:VTIMEZONE
TZID:America/Los_Angeles
BEGIN:DAYLIGHT
TZOFFSETFROM:-0800
TZOFFSETTO:-0700
TZNAME:PDT
DTSTART:20250309T100000
END:DAYLIGHT
BEGIN:STANDARD
TZOFFSETFROM:-0700
TZOFFSETTO:-0800
TZNAME:PST
DTSTART:20251102T090000
END:STANDARD
BEGIN:DAYLIGHT
TZOFFSETFROM:-0800
TZOFFSETTO:-0700
TZNAME:PDT
DTSTART:20260308T100000
END:DAYLIGHT
BEGIN:STANDARD
TZOFFSETFROM:-0700
TZOFFSETTO:-0800
TZNAME:PST
DTSTART:20261101T090000
END:STANDARD
BEGIN:DAYLIGHT
TZOFFSETFROM:-0800
TZOFFSETTO:-0700
TZNAME:PDT
DTSTART:20270314T100000
END:DAYLIGHT
BEGIN:STANDARD
TZOFFSETFROM:-0700
TZOFFSETTO:-0800
TZNAME:PST
DTSTART:20271107T090000
END:STANDARD
END:VTIMEZONE
BEGIN:VEVENT
DTSTART;TZID=America/Los_Angeles:20260501T083000
DTEND;TZID=America/Los_Angeles:20260501T170000
DTSTAMP:20260424T015440
CREATED:20260422T174943Z
LAST-MODIFIED:20260422T174944Z
UID:10000073-1777624200-1777654800@playcampuscommons.com
SUMMARY:Night Golf
DESCRIPTION:8:30 Shotgun Start
URL:https://playcampuscommons.com/event/night-golf-3/
END:VEVENT
BEGIN:VEVENT
DTSTART;TZID=America/Los_Angeles:20260505T170000
DTEND;TZID=America/Los_Angeles:20260505T210000
DTSTAMP:20260424T015440
CREATED:20260422T175500Z
LAST-MODIFIED:20260422T175501Z
UID:10000074-1778000400-1778014800@playcampuscommons.com
SUMMARY:2 Person Best Ball Tournament
DESCRIPTION:5:00 Start\, Prizes for 1st\, 2nd\, 3rd\, Closest to Pin
URL:https://playcampuscommons.com/event/2-person-best-ball-tournament/
END:VEVENT
BEGIN:VEVENT
DTSTART;TZID=America/Los_Angeles:20260515T083000
DTEND;TZID=America/Los_Angeles:20260515T170000
DTSTAMP:20260424T015440
CREATED:20260422T175556Z
LAST-MODIFIED:20260422T175558Z
UID:10000075-1778833800-1778864400@playcampuscommons.com
SUMMARY:Night Golf
DESCRIPTION:8:30 Shotgun Start
URL:https://playcampuscommons.com/event/night-golf-4/
END:VEVENT
BEGIN:VEVENT
DTSTART;TZID=America/Los_Angeles:20260521T170000
DTEND;TZID=America/Los_Angeles:20260521T210000
DTSTAMP:20260424T015440
CREATED:20260422T175647Z
LAST-MODIFIED:20260422T175648Z
UID:10000076-1779382800-1779397200@playcampuscommons.com
SUMMARY:2 Person Scramble Tournament
DESCRIPTION:5:00 Start\, Prizes for 1st\, 2nd\, 3rd\, Closest to Pin
URL:https://playcampuscommons.com/event/2-person-scramble-tournament/
END:VEVENT
BEGIN:VEVENT
DTSTART;TZID=America/Los_Angeles:20260529T080000
DTEND;TZID=America/Los_Angeles:20260529T170000
DTSTAMP:20260424T015440
CREATED:20260422T180724Z
LAST-MODIFIED:20260422T180729Z
UID:10000077-1780041600-1780074000@playcampuscommons.com
SUMMARY:Day Golf / Night Golf Combo Shotguns
DESCRIPTION:$35 for 1 Session\, $60 for both Sessions. First Shotgun 5:30\, Second Shotgun 8:30\, Hot Dog & chips served in between shotguns. Food is included when signing up for both sessions.
URL:https://playcampuscommons.com/event/day-golf-night-golf-combo-shotguns/
END:VEVENT
END:VCALENDAR